BEGIN:VCALENDAR
VERSION:2.0
PRODID:-//OUT Maine - ECPv6.15.20//NONSGML v1.0//EN
CALSCALE:GREGORIAN
METHOD:PUBLISH
X-ORIGINAL-URL:https://www.outmaine.org
X-WR-CALDESC:Events for OUT Maine
REFRESH-INTERVAL;VALUE=DURATION:PT1H
X-Robots-Tag:noindex
X-PUBLISHED-TTL:PT1H
BEGIN:VTIMEZONE
TZID:America/New_York
BEGIN:DAYLIGHT
TZOFFSETFROM:-0500
TZOFFSETTO:-0400
TZNAME:EDT
DTSTART:20250309T070000
END:DAYLIGHT
BEGIN:STANDARD
TZOFFSETFROM:-0400
TZOFFSETTO:-0500
TZNAME:EST
DTSTART:20251102T060000
END:STANDARD
BEGIN:DAYLIGHT
TZOFFSETFROM:-0500
TZOFFSETTO:-0400
TZNAME:EDT
DTSTART:20260308T070000
END:DAYLIGHT
BEGIN:STANDARD
TZOFFSETFROM:-0400
TZOFFSETTO:-0500
TZNAME:EST
DTSTART:20261101T060000
END:STANDARD
BEGIN:DAYLIGHT
TZOFFSETFROM:-0500
TZOFFSETTO:-0400
TZNAME:EDT
DTSTART:20270314T070000
END:DAYLIGHT
BEGIN:STANDARD
TZOFFSETFROM:-0400
TZOFFSETTO:-0500
TZNAME:EST
DTSTART:20271107T060000
END:STANDARD
END:VTIMEZONE
BEGIN:VEVENT
DTSTART;TZID=America/New_York:20260430T160000
DTEND;TZID=America/New_York:20260430T180000
DTSTAMP:20260421T141201
CREATED:20260205T160745Z
LAST-MODIFIED:20260421T142404Z
UID:10002222-1777564800-1777572000@www.outmaine.org
SUMMARY:Ellsworth Dungeons & Dragons Club
DESCRIPTION:Are you ready for an adventure? OUT Maine is running a 10-session Dungeons & Dragons Club for youth grades 8-12 in Ellsworth! The story of this campaign was designed to help young LGBTQ+ and allied folks become more confident\, creative\, and socially empowered—all while having fun playing a classic tabletop roleplaying game where we’ll cast spells\, meet dragons\, uncover fantastical mysteries\, and more. Seasoned players and beginners are welcome. Space is limited\, so sign up today! \nLocation/time details will be sent upon registration. \nRegister for free
URL:https://www.outmaine.org/event/ellsworth-dungeons-dragons-club-2/2026-04-30/
CATEGORIES:Community,In-Person,Youth
ATTACH;FMTTYPE=image/png:https://www.outmaine.org/wp-content/uploads/2025/08/DnD-club-calendar-graphic.png
ORGANIZER;CN="OUT Maine":MAILTO:program@outmaine.org
END:VEVENT
END:VCALENDAR