BEGIN:VCALENDAR
VERSION:2.0
PRODID:-//OUT Maine - ECPv6.15.20//NONSGML v1.0//EN
CALSCALE:GREGORIAN
METHOD:PUBLISH
X-WR-CALNAME:OUT Maine
X-ORIGINAL-URL:https://www.outmaine.org
X-WR-CALDESC:Events for OUT Maine
REFRESH-INTERVAL;VALUE=DURATION:PT1H
X-Robots-Tag:noindex
X-PUBLISHED-TTL:PT1H
BEGIN:VTIMEZONE
TZID:America/New_York
BEGIN:DAYLIGHT
TZOFFSETFROM:-0500
TZOFFSETTO:-0400
TZNAME:EDT
DTSTART:20250309T070000
END:DAYLIGHT
BEGIN:STANDARD
TZOFFSETFROM:-0400
TZOFFSETTO:-0500
TZNAME:EST
DTSTART:20251102T060000
END:STANDARD
BEGIN:DAYLIGHT
TZOFFSETFROM:-0500
TZOFFSETTO:-0400
TZNAME:EDT
DTSTART:20260308T070000
END:DAYLIGHT
BEGIN:STANDARD
TZOFFSETFROM:-0400
TZOFFSETTO:-0500
TZNAME:EST
DTSTART:20261101T060000
END:STANDARD
BEGIN:DAYLIGHT
TZOFFSETFROM:-0500
TZOFFSETTO:-0400
TZNAME:EDT
DTSTART:20270314T070000
END:DAYLIGHT
BEGIN:STANDARD
TZOFFSETFROM:-0400
TZOFFSETTO:-0500
TZNAME:EST
DTSTART:20271107T060000
END:STANDARD
END:VTIMEZONE
BEGIN:VEVENT
DTSTART;TZID=America/New_York:20260507T150000
DTEND;TZID=America/New_York:20260507T160000
DTSTAMP:20260422T111924
CREATED:20241107T153652Z
LAST-MODIFIED:20241107T154614Z
UID:10001166-1778166000-1778169600@www.outmaine.org
SUMMARY:School Support Circle
DESCRIPTION:Register Here for Zoom Link
URL:https://www.outmaine.org/event/school-support-circle/2026-05-07/
CATEGORIES:GSTA,Online,School
ATTACH;FMTTYPE=image/png:https://www.outmaine.org/wp-content/uploads/2024/11/School-Support-Circle-reminder-1.png
ORGANIZER;CN="OUT Maine":MAILTO:program@outmaine.org
END:VEVENT
BEGIN:VEVENT
DTSTART;TZID=America/New_York:20260513T153000
DTEND;TZID=America/New_York:20260513T173000
DTSTAMP:20260422T111924
CREATED:20260410T142317Z
LAST-MODIFIED:20260410T142317Z
UID:10002297-1778686200-1778693400@www.outmaine.org
SUMMARY:Portland Pride Tour (Regional GSTA Meetup)
DESCRIPTION:A GSTA meetup for local clubs\, where we’ll be walking around downtown Portland and visiting queer-owned businesses! \nRegister Now
URL:https://www.outmaine.org/event/portland-pride-tour-regional-gsta-meetup/
CATEGORIES:Community,GSTA,In-Person,Pride Month,Youth
ATTACH;FMTTYPE=image/png:https://www.outmaine.org/wp-content/uploads/2026/04/Portland-Pride-Tour-post-2.png
ORGANIZER;CN="OUT Maine":MAILTO:program@outmaine.org
END:VEVENT
BEGIN:VEVENT
DTSTART;TZID=America/New_York:20260518T150000
DTEND;TZID=America/New_York:20260518T160000
DTSTAMP:20260422T111924
CREATED:20260121T142416Z
LAST-MODIFIED:20260121T142416Z
UID:10002164-1779116400-1779120000@www.outmaine.org
SUMMARY:GSTA Advisor Support Circle
DESCRIPTION:Advisors Register Here for Monthly Zoom Link\nNot part of the GSTA Network yet? Learn more here!
URL:https://www.outmaine.org/event/gsta-advisor-support-circle-3/2026-05-18/
CATEGORIES:GSTA,Online,School
ATTACH;FMTTYPE=image/png:https://www.outmaine.org/wp-content/uploads/2024/11/GSTA-Advisor-Support-Circle-newsletter-graphic-2.png
ORGANIZER;CN="OUT Maine":MAILTO:program@outmaine.org
END:VEVENT
END:VCALENDAR